BEGIN:VCALENDAR
VERSION:2.0
PRODID:-//Hedwig-Bollhagen-Gymnasium Velten - ECPv6.15.20//NONSGML v1.0//EN
CALSCALE:GREGORIAN
METHOD:PUBLISH
X-WR-CALNAME:Hedwig-Bollhagen-Gymnasium Velten
X-ORIGINAL-URL:https://bollhagen-gymnasium.de
X-WR-CALDESC:Veranstaltungen für Hedwig-Bollhagen-Gymnasium Velten
REFRESH-INTERVAL;VALUE=DURATION:PT1H
X-Robots-Tag:noindex
X-PUBLISHED-TTL:PT1H
BEGIN:VTIMEZONE
TZID:Europe/Berlin
BEGIN:DAYLIGHT
TZOFFSETFROM:+0100
TZOFFSETTO:+0200
TZNAME:CEST
DTSTART:20250330T010000
END:DAYLIGHT
BEGIN:STANDARD
TZOFFSETFROM:+0200
TZOFFSETTO:+0100
TZNAME:CET
DTSTART:20251026T010000
END:STANDARD
BEGIN:DAYLIGHT
TZOFFSETFROM:+0100
TZOFFSETTO:+0200
TZNAME:CEST
DTSTART:20260329T010000
END:DAYLIGHT
BEGIN:STANDARD
TZOFFSETFROM:+0200
TZOFFSETTO:+0100
TZNAME:CET
DTSTART:20261025T010000
END:STANDARD
BEGIN:DAYLIGHT
TZOFFSETFROM:+0100
TZOFFSETTO:+0200
TZNAME:CEST
DTSTART:20270328T010000
END:DAYLIGHT
BEGIN:STANDARD
TZOFFSETFROM:+0200
TZOFFSETTO:+0100
TZNAME:CET
DTSTART:20271031T010000
END:STANDARD
END:VTIMEZONE
BEGIN:VEVENT
DTSTART;VALUE=DATE:20260420
DTEND;VALUE=DATE:20260422
DTSTAMP:20260420T121903
CREATED:20260210T073731Z
LAST-MODIFIED:20260210T073731Z
UID:14489-1776643200-1776815999@bollhagen-gymnasium.de
SUMMARY:Fachlehrer*innen-/Elterngespräche
DESCRIPTION:
URL:https://bollhagen-gymnasium.de/termin/fachlehrerinnen-elterngespraeche-2/
END:VEVENT
END:VCALENDAR